BEGIN:VCALENDAR
VERSION:2.0
PRODID:-//Judo Club Arbreslois - ECPv6.9.0//NONSGML v1.0//EN
CALSCALE:GREGORIAN
METHOD:PUBLISH
X-WR-CALNAME:Judo Club Arbreslois
X-ORIGINAL-URL:https://jca69.fr
X-WR-CALDESC:Évènements pour Judo Club Arbreslois
REFRESH-INTERVAL;VALUE=DURATION:PT1H
X-Robots-Tag:noindex
X-PUBLISHED-TTL:PT1H
BEGIN:VTIMEZONE
TZID:Europe/Paris
BEGIN:DAYLIGHT
TZOFFSETFROM:+0100
TZOFFSETTO:+0200
TZNAME:CEST
DTSTART:20240331T010000
END:DAYLIGHT
BEGIN:STANDARD
TZOFFSETFROM:+0200
TZOFFSETTO:+0100
TZNAME:CET
DTSTART:20241027T010000
END:STANDARD
END:VTIMEZONE
BEGIN:VEVENT
DTSTART;TZID=Europe/Paris:20240615T113000
DTEND;TZID=Europe/Paris:20240615T190000
DTSTAMP:20260424T194441
CREATED:20231128T160538Z
LAST-MODIFIED:20231128T160837Z
UID:20059-1718451000-1718478000@jca69.fr
SUMMARY:FETE DU JCA
DESCRIPTION:Merci de noter la date du 15 Juin dans vos agenda.
URL:https://jca69.fr/evenement/fete-du-jca-2/
LOCATION:SALLE CLAUDE TERRASSE\, 201 route de Paris\, L'ARBRESLE\, 69210\, France
CATEGORIES:Fêtes du club
ATTACH;FMTTYPE=image/png:https://jca69.fr/wp-content/uploads/2018/08/logo-jca69-footer.png
END:VEVENT
END:VCALENDAR