BEGIN:VCALENDAR
VERSION:2.0
PRODID:-//Judo Club Arbreslois - ECPv6.9.0//NONSGML v1.0//EN
CALSCALE:GREGORIAN
METHOD:PUBLISH
X-ORIGINAL-URL:https://jca69.fr
X-WR-CALDESC:Évènements pour Judo Club Arbreslois
REFRESH-INTERVAL;VALUE=DURATION:PT1H
X-Robots-Tag:noindex
X-PUBLISHED-TTL:PT1H
BEGIN:VTIMEZONE
TZID:Europe/Paris
BEGIN:DAYLIGHT
TZOFFSETFROM:+0100
TZOFFSETTO:+0200
TZNAME:CEST
DTSTART:20250330T010000
END:DAYLIGHT
BEGIN:STANDARD
TZOFFSETFROM:+0200
TZOFFSETTO:+0100
TZNAME:CET
DTSTART:20251026T010000
END:STANDARD
END:VTIMEZONE
BEGIN:VEVENT
DTSTART;TZID=Europe/Paris:20250119T080000
DTEND;TZID=Europe/Paris:20250119T170000
DTSTAMP:20260424T131543
CREATED:20250112T151704Z
LAST-MODIFIED:20250112T163708Z
UID:20203-1737273600-1737306000@jca69.fr
SUMMARY:SELECTION COUPE DU RHONE FFJ
DESCRIPTION:BENJAMINS garçons Sélection coupe du Rhône FF Judo
URL:https://jca69.fr/evenement/selection-coupe-du-rhone/
LOCATION:Maison du JUDO\, 12 rue Saint-Théodore\, LYON\, 69003\, France
CATEGORIES:COUPE DU RHONE,FFJ
ATTACH;FMTTYPE=image/png:https://jca69.fr/wp-content/uploads/2018/08/logo-ffjda.jpg.png
END:VEVENT
END:VCALENDAR