BEGIN:VCALENDAR
VERSION:2.0
PRODID:-//Judo Club Arbreslois - ECPv6.9.0//NONSGML v1.0//EN
CALSCALE:GREGORIAN
METHOD:PUBLISH
X-WR-CALNAME:Judo Club Arbreslois
X-ORIGINAL-URL:https://jca69.fr
X-WR-CALDESC:Évènements pour Judo Club Arbreslois
REFRESH-INTERVAL;VALUE=DURATION:PT1H
X-Robots-Tag:noindex
X-PUBLISHED-TTL:PT1H
BEGIN:VTIMEZONE
TZID:Europe/Paris
BEGIN:DAYLIGHT
TZOFFSETFROM:+0100
TZOFFSETTO:+0200
TZNAME:CEST
DTSTART:20220327T010000
END:DAYLIGHT
BEGIN:STANDARD
TZOFFSETFROM:+0200
TZOFFSETTO:+0100
TZNAME:CET
DTSTART:20221030T010000
END:STANDARD
END:VTIMEZONE
BEGIN:VEVENT
DTSTART;VALUE=DATE:20220212
DTEND;VALUE=DATE:20220228
DTSTAMP:20260424T135458
CREATED:20211129T150844Z
LAST-MODIFIED:20221206T162343Z
UID:1631-1644624000-1646006399@jca69.fr
SUMMARY:VACANCES SCOLAIRES
DESCRIPTION:
URL:https://jca69.fr/evenement/vacances-scolaires-2/
CATEGORIES:Vacances
ATTACH;FMTTYPE=image/png:https://jca69.fr/wp-content/uploads/2021/11/Logo-education-TRICOLORE.png
END:VEVENT
END:VCALENDAR