BEGIN:VCALENDAR
VERSION:2.0
PRODID:-//Judo Club Arbreslois - ECPv6.9.0//NONSGML v1.0//EN
CALSCALE:GREGORIAN
METHOD:PUBLISH
X-WR-CALNAME:Judo Club Arbreslois
X-ORIGINAL-URL:https://jca69.fr
X-WR-CALDESC:Évènements pour Judo Club Arbreslois
REFRESH-INTERVAL;VALUE=DURATION:PT1H
X-Robots-Tag:noindex
X-PUBLISHED-TTL:PT1H
BEGIN:VTIMEZONE
TZID:Europe/Paris
BEGIN:DAYLIGHT
TZOFFSETFROM:+0100
TZOFFSETTO:+0200
TZNAME:CEST
DTSTART:20220327T010000
END:DAYLIGHT
BEGIN:STANDARD
TZOFFSETFROM:+0200
TZOFFSETTO:+0100
TZNAME:CET
DTSTART:20221030T010000
END:STANDARD
END:VTIMEZONE
BEGIN:VEVENT
DTSTART;TZID=Europe/Paris:20220205T080000
DTEND;TZID=Europe/Paris:20220205T170000
DTSTAMP:20260424T113612
CREATED:20211129T150520Z
LAST-MODIFIED:20211129T150520Z
UID:1629-1644048000-1644080400@jca69.fr
SUMMARY:SELECTION N°2 UFOLEP	 : MINIMES à VETERANS
DESCRIPTION:
URL:https://jca69.fr/evenement/selection-n2-ufolep-minimes-a-veterans/
LOCATION:Saint Quentin\, Gymnase du Loup Rue Bellevue\, St Quentin Fallavier\, 38070\, France
CATEGORIES:Championnat du Rhône UFOLEP
ATTACH;FMTTYPE=image/png:https://jca69.fr/wp-content/uploads/2021/11/post-LogoUfolep.png
END:VEVENT
END:VCALENDAR