BEGIN:VCALENDAR
VERSION:2.0
PRODID:-//Judo Club Arbreslois - ECPv6.9.0//NONSGML v1.0//EN
CALSCALE:GREGORIAN
METHOD:PUBLISH
X-WR-CALNAME:Judo Club Arbreslois
X-ORIGINAL-URL:https://jca69.fr
X-WR-CALDESC:Évènements pour Judo Club Arbreslois
REFRESH-INTERVAL;VALUE=DURATION:PT1H
X-Robots-Tag:noindex
X-PUBLISHED-TTL:PT1H
BEGIN:VTIMEZONE
TZID:Europe/Paris
BEGIN:DAYLIGHT
TZOFFSETFROM:+0100
TZOFFSETTO:+0200
TZNAME:CEST
DTSTART:20220327T010000
END:DAYLIGHT
BEGIN:STANDARD
TZOFFSETFROM:+0200
TZOFFSETTO:+0100
TZNAME:CET
DTSTART:20221030T010000
END:STANDARD
END:VTIMEZONE
BEGIN:VEVENT
DTSTART;TZID=Europe/Paris:20220115T080000
DTEND;TZID=Europe/Paris:20220115T170000
DTSTAMP:20260424T150449
CREATED:20211129T144245Z
LAST-MODIFIED:20211129T144245Z
UID:1623-1642233600-1642266000@jca69.fr
SUMMARY:INTER CLUB ECULLY : POUSSINS à SENIORS
DESCRIPTION:
URL:https://jca69.fr/evenement/inter-club-ecully-poussins-a-seniors/
CATEGORIES:Compétitions,FFJ,Interclub
ATTACH;FMTTYPE=image/png:https://jca69.fr/wp-content/uploads/2018/08/logo-ffjda.jpg.png
END:VEVENT
END:VCALENDAR